BEGIN:VCALENDAR
VERSION:2.0
PRODID:-//Privaon - ECPv6.15.20//NONSGML v1.0//EN
CALSCALE:GREGORIAN
METHOD:PUBLISH
X-ORIGINAL-URL:https://privaon.com/fi/
X-WR-CALDESC:Tapahtumat Privaon
REFRESH-INTERVAL;VALUE=DURATION:PT1H
X-Robots-Tag:noindex
X-PUBLISHED-TTL:PT1H
BEGIN:VTIMEZONE
TZID:Europe/Helsinki
BEGIN:DAYLIGHT
TZOFFSETFROM:+0200
TZOFFSETTO:+0300
TZNAME:EEST
DTSTART:20240331T010000
END:DAYLIGHT
BEGIN:STANDARD
TZOFFSETFROM:+0300
TZOFFSETTO:+0200
TZNAME:EET
DTSTART:20241027T010000
END:STANDARD
BEGIN:DAYLIGHT
TZOFFSETFROM:+0200
TZOFFSETTO:+0300
TZNAME:EEST
DTSTART:20250330T010000
END:DAYLIGHT
BEGIN:STANDARD
TZOFFSETFROM:+0300
TZOFFSETTO:+0200
TZNAME:EET
DTSTART:20251026T010000
END:STANDARD
BEGIN:DAYLIGHT
TZOFFSETFROM:+0200
TZOFFSETTO:+0300
TZNAME:EEST
DTSTART:20260329T010000
END:DAYLIGHT
BEGIN:STANDARD
TZOFFSETFROM:+0300
TZOFFSETTO:+0200
TZNAME:EET
DTSTART:20261025T010000
END:STANDARD
END:VTIMEZONE
BEGIN:VEVENT
DTSTART;TZID=Europe/Helsinki:20251211T083000
DTEND;TZID=Europe/Helsinki:20251211T090000
DTSTAMP:20260424T135828
CREATED:20250815T100416Z
LAST-MODIFIED:20251209T103824Z
UID:10000057-1765441800-1765443600@privaon.com
SUMMARY:DPO365:n uudet ominaisuudet -webinaari
DESCRIPTION:Rekisteröidy täältä\n			\n				\n				\n				\n				\n				Tervetuloa tutustumaan DPO365-palvelun uusiin ominaisuuksiin ja toiminnallisuuksiin torstaina 11.12.2025 klo 8:30-9:00! \nWebinaarissa käydään läpi DPO365:n uusia ominaisuuksia ja toiminnallisuuksia. \nTapahtuman asiantuntijana toimii Customer Success Manager Kai Linnervuo. \nWebinaariin ovat tervetulleita kaikki DPO365:n käyttäjät. \nTervetuloa! Privaon\n			\n				Rekisteröidy täältä
URL:https://privaon.com/fi/event/dpo365n-uudet-ominaisuudet-webinaari-4/
LOCATION:Verkkotapahtuma
ATTACH;FMTTYPE=image/png:https://privaon.com/wp-content/uploads/2025/08/DPO365-Release-Notes-Webinar-4.avif
END:VEVENT
END:VCALENDAR