BEGIN:VCALENDAR
VERSION:2.0
PRODID:-//Privaon - ECPv6.15.20//NONSGML v1.0//EN
CALSCALE:GREGORIAN
METHOD:PUBLISH
X-WR-CALNAME:Privaon
X-ORIGINAL-URL:https://privaon.com/fi/
X-WR-CALDESC:Tapahtumat Privaon
REFRESH-INTERVAL;VALUE=DURATION:PT1H
X-Robots-Tag:noindex
X-PUBLISHED-TTL:PT1H
BEGIN:VTIMEZONE
TZID:Europe/Helsinki
BEGIN:DAYLIGHT
TZOFFSETFROM:+0200
TZOFFSETTO:+0300
TZNAME:EEST
DTSTART:20240331T010000
END:DAYLIGHT
BEGIN:STANDARD
TZOFFSETFROM:+0300
TZOFFSETTO:+0200
TZNAME:EET
DTSTART:20241027T010000
END:STANDARD
BEGIN:DAYLIGHT
TZOFFSETFROM:+0200
TZOFFSETTO:+0300
TZNAME:EEST
DTSTART:20250330T010000
END:DAYLIGHT
BEGIN:STANDARD
TZOFFSETFROM:+0300
TZOFFSETTO:+0200
TZNAME:EET
DTSTART:20251026T010000
END:STANDARD
BEGIN:DAYLIGHT
TZOFFSETFROM:+0200
TZOFFSETTO:+0300
TZNAME:EEST
DTSTART:20260329T010000
END:DAYLIGHT
BEGIN:STANDARD
TZOFFSETFROM:+0300
TZOFFSETTO:+0200
TZNAME:EET
DTSTART:20261025T010000
END:STANDARD
END:VTIMEZONE
BEGIN:VEVENT
DTSTART;TZID=Europe/Helsinki:20251127T103000
DTEND;TZID=Europe/Helsinki:20251127T110000
DTSTAMP:20260424T153223
CREATED:20251022T091849Z
LAST-MODIFIED:20251028T152438Z
UID:10000066-1764239400-1764241200@privaon.com
SUMMARY:Tietoturvaloukkausten hallinta tekoälyn aikakaudella -webinaari
DESCRIPTION:Lue lisää ja rekisteröidy täällä\n			\n				\n				\n				\n				\n				Tervetuloa ”Tietoturvaloukkausten hallinta tekoälyn aikakaudella” -webinaariin torstaina 27. marraskuuta 2025 klo: 10.30-11.00 EET (UTC+2\, Helsinki) / 8.30-9.00 GMT (UTC +0\, Dublin). \nTeknologian kehittyessä myös henkilötietoihin ja vaatimustenmukaisuuden noudattamiseen liittyvät riskit kasvavat. \nTässä webinaarissa: \n\nYmmärrät GDPR:n asettamat vaatimukset tietoturvaloukkausten ilmoittamiselle ja niihin reagoinoille nykypäivän datalähtöisissä ympäristöissä\nTutustut uusiin tekoälyyn tuomiin riskeihin ja niiden vaikutuksiin tietoturvaloukkausten hallinnassa\nOpit reagoimaan tehokkaasti tietoturvaloukkauksiin niiden tapahtuessa\, mukaan lukien viestintä viranomaisten ja asianomaisten henkilöiden kanssa\nTutustut käytännönläheisiin strategioihin\, joilla voit varautua tietoturvaloukkauksiin ja lieventää niiden riskiä ennen niiden tapahtumista\n\nWebinaarin puhujana toimii Privaonin tietosuoja-asiantuntija Ville Koljonen (CIPP/E\, AIGP). Lähetäthän webinaarin aiheeseen liittyvät ennakkokysymyksesi ilmoittautumislomakkeen kautta. Tapahtuma on suunnattu tietosuojavastaaville ja tietosuoja-alan ammattilaisille. Webinaari on maksuton\, mutta muistathan rekisteröityä etukäteen. \nTapahtuman kieli on englanti. \n			\n				Lue lisää ja rekisteröidy täällä
URL:https://privaon.com/fi/event/tietoturvaloukkausten-hallinta-tekoalyn-aikakaudella-webinaari/
LOCATION:Verkkotapahtuma
ATTACH;FMTTYPE=image/png:https://privaon.com/wp-content/uploads/2025/10/November-Webinar-Visuals-1.avif
END:VEVENT
END:VCALENDAR