BEGIN:VCALENDAR
VERSION:2.0
PRODID:-//Privaon - ECPv6.15.20//NONSGML v1.0//EN
CALSCALE:GREGORIAN
METHOD:PUBLISH
X-WR-CALNAME:Privaon
X-ORIGINAL-URL:https://privaon.com/fi/
X-WR-CALDESC:Tapahtumat Privaon
REFRESH-INTERVAL;VALUE=DURATION:PT1H
X-Robots-Tag:noindex
X-PUBLISHED-TTL:PT1H
BEGIN:VTIMEZONE
TZID:Europe/Helsinki
BEGIN:DAYLIGHT
TZOFFSETFROM:+0200
TZOFFSETTO:+0300
TZNAME:EEST
DTSTART:20240331T010000
END:DAYLIGHT
BEGIN:STANDARD
TZOFFSETFROM:+0300
TZOFFSETTO:+0200
TZNAME:EET
DTSTART:20241027T010000
END:STANDARD
BEGIN:DAYLIGHT
TZOFFSETFROM:+0200
TZOFFSETTO:+0300
TZNAME:EEST
DTSTART:20250330T010000
END:DAYLIGHT
BEGIN:STANDARD
TZOFFSETFROM:+0300
TZOFFSETTO:+0200
TZNAME:EET
DTSTART:20251026T010000
END:STANDARD
BEGIN:DAYLIGHT
TZOFFSETFROM:+0200
TZOFFSETTO:+0300
TZNAME:EEST
DTSTART:20260329T010000
END:DAYLIGHT
BEGIN:STANDARD
TZOFFSETFROM:+0300
TZOFFSETTO:+0200
TZNAME:EET
DTSTART:20261025T010000
END:STANDARD
END:VTIMEZONE
BEGIN:VEVENT
DTSTART;TZID=Europe/Helsinki:20251023T083000
DTEND;TZID=Europe/Helsinki:20251023T090000
DTSTAMP:20260424T170252
CREATED:20250922T083502Z
LAST-MODIFIED:20251002T133037Z
UID:10000062-1761208200-1761210000@privaon.com
SUMMARY:Evästeiden ajankohtaiskatsaus
DESCRIPTION:Rekisteröidy nyt\n			\n				\n				\n				\n				\n				Evästeet ovat nousseet jälleen Suomessa tietosuoja-ammattilaisten huulille\, kun tietosuojavaltuutetun toimisto langetti Yliopiston Apteekille 1\,1 miljoonan euron seuraamusmaksun (päätös ei ole lainvoimainen). Tämän lisäksi uutiskynnyksen ovat ylittäneet useiden kansainvälisten toimijoiden evästeiden tietosuojapuutteet.   \nEvästeiden ajankohtaiskatsaus -webinaarissa käydään läpi evästeiden sääntelyn kehitystä ja esitellään muutamia viimeaikaisia evästeisiin liittyviä caseja ja niihin liittyviä tietosuojapuutteita. Lisäksi saat vastauksia seuraaviin kysymyksiin:   \n\nMitä evästeet ja muut seurantateknologiat ovat?\nMillaista sääntelyä evästeisiin liittyy?  \nMiten evästeitä tulee hallita vuonna 2025?  \n\nTässä webinaarissa saat myös käytännönläheisiä vinkkejä verkkosivustojen evästeisiin liittyen. Webinaarin asiantuntijoina toimivat Privaonin vanhempi tietosuoja-asiantuntija Ilkka Kemppainen (CIPP/E\, CIPM\, FIP) ja tietosuoja-asiantuntija Anssi Laakkonen (CIPP/E). Voit lähettää asiantuntijoille aiheeseen liittyviä kysymyksiä ilmoittautumisen yhteydessä. \nWebinaarimme ovat maksuttomia\, mutta muistathan ilmoittautua hyvissä ajoin ennen tapahtuman alkua. Suurien osallistujamäärien takia priorisoimme yrityksen sähköpostilla ilmoittautuneet osallistujat. \nTervetuloa mukaan! \n			\n				Rekisteröidy nyt
URL:https://privaon.com/fi/event/evasteiden-ajankohtaiskatsaus/
ATTACH;FMTTYPE=image/png:https://privaon.com/wp-content/uploads/2025/09/October-Webinar-1-1.avif
END:VEVENT
END:VCALENDAR