BEGIN:VCALENDAR
VERSION:2.0
PRODID:-//Privaon - ECPv6.15.20//NONSGML v1.0//EN
CALSCALE:GREGORIAN
METHOD:PUBLISH
X-ORIGINAL-URL:https://privaon.com/fi/
X-WR-CALDESC:Tapahtumat Privaon
REFRESH-INTERVAL;VALUE=DURATION:PT1H
X-Robots-Tag:noindex
X-PUBLISHED-TTL:PT1H
BEGIN:VTIMEZONE
TZID:Asia/Bangkok
BEGIN:STANDARD
TZOFFSETFROM:+0700
TZOFFSETTO:+0700
TZNAME:+07
DTSTART:20240101T000000
END:STANDARD
END:VTIMEZONE
BEGIN:VEVENT
DTSTART;TZID=Asia/Bangkok:20250806T120000
DTEND;TZID=Asia/Bangkok:20250806T130000
DTSTAMP:20260424T202730
CREATED:20250716T064850Z
LAST-MODIFIED:20250716T064850Z
UID:10000055-1754481600-1754485200@privaon.com
SUMMARY:Navigointi tietosuojassa: EU:n yleinen tietosuoja-asetus (GDPR) ja Thaimaa.
DESCRIPTION:Privaon isännöi ja järjestää yhteistyössä Suomen suurlähetystön kanssa: \n”Navigointi tietosuojassa: EU:n yleinen tietosuoja-asetus (GDPR) ja Thaimaa”. \nPäivämäärä: 6. elokuuta 2025\nAika: 12:00 – 13:00 (Bangkokin aikaa)\, 8.00 – 9:00 (Suomen aikaa).\nAlusta: Zoom \n\nOhjelma \nAvauspuheenvuorot\nHänen Ylhäisyytensä suurlähettiläs Kristiina Kuvaja\, Suomen suurlähetystö\, Bangkok \nTervehdyspuheenvuoro ja pohdintoja kansainvälisen yhteistyön merkityksestä tietosuojassa. \nThaimaan näkökulma EU:n tietosuoja-asetukseen\nPuhuja thaimaalaisesta organisaatiosta\nEsitys EU:n yleisen tietosuoja-asetuksen periaatteiden paikallisesta ymmärtämisestä ja täytäntöönpanosta Thaimaassa. \nEuroopan unionin Thaimaan-lähetystön huomautukset\nEU:n lähetystön edustaja\nTutustui EU:n näkökulmaan Thaimaan nykyisestä tietosuojaympäristöstä. \nPrivaonin esittely\nPrivaonin edustajat\, Anne Laitinen\, Head of Growth & Gail Maunula (CIPP/E\, CIPM)\, Senior Data Protection Specialist\nJohdanto käytännön ratkaisuihin\, jotka parantavat tietosuojakypsyyttä\, saavuttavat EU:n GDPR-vaatimustenmukaisuuden ja avaavat EU:n markkinoiden luottamuksen Kaakkois-Aasian organisaatioille. \nVuorovaikutteinen kyselytunti\nOsallistujilla on mahdollisuus keskustella puhujien kanssa ja esittää kysymyksiä. \n\nRekisteröinti \nMuistathan rekisteröityä ennen webinaarin alkua!
URL:https://privaon.com/fi/event/navigointi-tietosuojassa-eun-yleinen-tietosuoja-asetus-gdpr-ja-thaimaa/
LOCATION:Verkkotapahtuma
ATTACH;FMTTYPE=image/png:https://privaon.com/wp-content/uploads/2025/07/Bangkok-Webinar-1-1.avif
END:VEVENT
END:VCALENDAR