BEGIN:VCALENDAR
VERSION:2.0
PRODID:-//Privaon - ECPv6.15.20//NONSGML v1.0//EN
CALSCALE:GREGORIAN
METHOD:PUBLISH
X-ORIGINAL-URL:https://privaon.com/fi/
X-WR-CALDESC:Tapahtumat Privaon
REFRESH-INTERVAL;VALUE=DURATION:PT1H
X-Robots-Tag:noindex
X-PUBLISHED-TTL:PT1H
BEGIN:VTIMEZONE
TZID:Europe/Helsinki
BEGIN:DAYLIGHT
TZOFFSETFROM:+0200
TZOFFSETTO:+0300
TZNAME:EEST
DTSTART:20240331T010000
END:DAYLIGHT
BEGIN:STANDARD
TZOFFSETFROM:+0300
TZOFFSETTO:+0200
TZNAME:EET
DTSTART:20241027T010000
END:STANDARD
BEGIN:DAYLIGHT
TZOFFSETFROM:+0200
TZOFFSETTO:+0300
TZNAME:EEST
DTSTART:20250330T010000
END:DAYLIGHT
BEGIN:STANDARD
TZOFFSETFROM:+0300
TZOFFSETTO:+0200
TZNAME:EET
DTSTART:20251026T010000
END:STANDARD
BEGIN:DAYLIGHT
TZOFFSETFROM:+0200
TZOFFSETTO:+0300
TZNAME:EEST
DTSTART:20260329T010000
END:DAYLIGHT
BEGIN:STANDARD
TZOFFSETFROM:+0300
TZOFFSETTO:+0200
TZNAME:EET
DTSTART:20261025T010000
END:STANDARD
END:VTIMEZONE
BEGIN:VEVENT
DTSTART;TZID=Europe/Helsinki:20250703T103000
DTEND;TZID=Europe/Helsinki:20250703T110000
DTSTAMP:20260424T220703
CREATED:20250217T120117Z
LAST-MODIFIED:20250616T104122Z
UID:10000045-1751538600-1751540400@privaon.com
SUMMARY:Kuinka onnistua tietosuojavastaavana?
DESCRIPTION:Rekisteröidy\n			\n				\n				\n				\n				\n				  \nTervetuloa ”Kuinka onnistua tietosuojavastaavana?” -webinaariin torstaina 3.7.2025 klo 10:30-11:00! \nTietosuojavastaavan rooli vaatii mm. yhteistyötaitoja\, lainsäädännön seurantaa ja tulkintaa\, ajanhallintaa\, priorisointi- ja organisointitaitoja. Pureudumme webinaarissa tietosuojavastaavan roolin lisäksi seuraaviin aiheisiin: \n\nTietosuojavastaavan rooli ja nimitys organisaatiossa\nMiksi tietosuojavastaavan menestys hänen tehtävissään on tärkeää?\nKolme tietosuojavastaavan työn keskeistä elementtiä\nTietosuojavastaavan työssä menestyminen tekoälyn aikakaudella\n\nWebinaarin puhujana toimii Privaonin vanhempi tietosuoja-asiantuntija Gail Maunula (CIPP/E\, CIPM). \nWebinaari on maksuton\, mutta muistathan rekisteröityä mukaan ennen webinaarin alkua. Webinaarimme ovat olleet suosittuja\, jonka takia joudumme antamaan paikat ensisijaisesti organisaation sähköpostiosoitteella rekisteröityneille. \nTervetuloa! \nHuomioi\, että webinaari pidetään englanninkielellä. \n			\n				Rekisteröidy
URL:https://privaon.com/fi/event/kuinka-onnistua-tietosuojavastaavana/
LOCATION:Verkkotapahtuma
ATTACH;FMTTYPE=image/png:https://privaon.com/wp-content/uploads/2025/02/webinaarit-verkkosivut-png.avif
END:VEVENT
END:VCALENDAR