BEGIN:VCALENDAR
VERSION:2.0
PRODID:-//Privaon - ECPv6.15.20//NONSGML v1.0//EN
CALSCALE:GREGORIAN
METHOD:PUBLISH
X-WR-CALNAME:Privaon
X-ORIGINAL-URL:https://privaon.com/fi/
X-WR-CALDESC:Tapahtumat Privaon
REFRESH-INTERVAL;VALUE=DURATION:PT1H
X-Robots-Tag:noindex
X-PUBLISHED-TTL:PT1H
BEGIN:VTIMEZONE
TZID:Europe/Helsinki
BEGIN:DAYLIGHT
TZOFFSETFROM:+0200
TZOFFSETTO:+0300
TZNAME:EEST
DTSTART:20240331T010000
END:DAYLIGHT
BEGIN:STANDARD
TZOFFSETFROM:+0300
TZOFFSETTO:+0200
TZNAME:EET
DTSTART:20241027T010000
END:STANDARD
BEGIN:DAYLIGHT
TZOFFSETFROM:+0200
TZOFFSETTO:+0300
TZNAME:EEST
DTSTART:20250330T010000
END:DAYLIGHT
BEGIN:STANDARD
TZOFFSETFROM:+0300
TZOFFSETTO:+0200
TZNAME:EET
DTSTART:20251026T010000
END:STANDARD
BEGIN:DAYLIGHT
TZOFFSETFROM:+0200
TZOFFSETTO:+0300
TZNAME:EEST
DTSTART:20260329T010000
END:DAYLIGHT
BEGIN:STANDARD
TZOFFSETFROM:+0300
TZOFFSETTO:+0200
TZNAME:EET
DTSTART:20261025T010000
END:STANDARD
END:VTIMEZONE
BEGIN:VEVENT
DTSTART;TZID=Europe/Helsinki:20250306T103000
DTEND;TZID=Europe/Helsinki:20250306T110000
DTSTAMP:20260425T013553
CREATED:20250219T074236Z
LAST-MODIFIED:20250220T073555Z
UID:10000047-1741257000-1741258800@privaon.com
SUMMARY:Tekoäly ja tietosuoja
DESCRIPTION:Rekisteröidy\n			\n				\n				\n				\n				\n				Yhä useampi organisaatio haluaa tehostaa toimintojaan hyödyntämällä tekoälyä\, esimerkiksi automatisoimaan rutiinitehtäviä\, ja tehostamaan uusien tuotteiden ja palveluiden kehittämistä. Tässä ”Tekoäly ja tietosuoja” -webinaarissa 6.3.2025 klo 10:30-11:00 (8:30-9:00 GMT) pureudutaan siihen\, miten organisaatio voi hyödyntää tekoälyä varmistaen samalla tietosuojaan liittyvien vaatimusten noudattamisen. Webinaarissa keskustellaan mm. seuraavista aiheista: \n\nMitä tekoäly on ja mitä se tarkoittaa?\nMikä on tietosuojan ja tekoälyn suhde?\nMikä on AI Act\, sen aikajana ja soveltamisala?\nMiten tietosuoja tulee ottaa huomioon tekoälyä käytettäessä?\nMillaisia haasteita tekoälyn vaatimustenmukaiseen soveltamiseen liittyy ja miten näitä voi ratkoa?     \n\nWebinaarin asiantuntijoina toimivat Privaonin tietosuoja-asiantuntija Andrii Konopko (CIPP/E\, CIPM) ja Veneto Privacyn toimitusjohtaja Julian Hayes (CIPM). Voit lähettää tekoälyyn ja tietosuojaan liittyvät kysymyksesi ilmoittautumislomakkeella.  \nPrivaon järjestää webinaarin yhteistyössä tietosuojaan ja -turvaan erikoistuneet Veneton kanssa. \nWebinaarin kielenä on englanti.  \n  \n			\n				Rekisteröidy
URL:https://privaon.com/fi/event/tekoaly-ja-tietosuoja-2/
LOCATION:Verkkotapahtuma
ATTACH;FMTTYPE=image/jpeg:https://privaon.com/wp-content/uploads/2024/07/Webinaarit-H224-mainoskuvat-linkedin-2-jpg.avif
END:VEVENT
END:VCALENDAR