BEGIN:VCALENDAR
VERSION:2.0
PRODID:-//Privaon - ECPv6.15.20//NONSGML v1.0//EN
CALSCALE:GREGORIAN
METHOD:PUBLISH
X-ORIGINAL-URL:https://privaon.com/fi/
X-WR-CALDESC:Tapahtumat Privaon
REFRESH-INTERVAL;VALUE=DURATION:PT1H
X-Robots-Tag:noindex
X-PUBLISHED-TTL:PT1H
BEGIN:VTIMEZONE
TZID:Europe/Helsinki
BEGIN:DAYLIGHT
TZOFFSETFROM:+0200
TZOFFSETTO:+0300
TZNAME:EEST
DTSTART:20230326T010000
END:DAYLIGHT
BEGIN:STANDARD
TZOFFSETFROM:+0300
TZOFFSETTO:+0200
TZNAME:EET
DTSTART:20231029T010000
END:STANDARD
BEGIN:DAYLIGHT
TZOFFSETFROM:+0200
TZOFFSETTO:+0300
TZNAME:EEST
DTSTART:20240331T010000
END:DAYLIGHT
BEGIN:STANDARD
TZOFFSETFROM:+0300
TZOFFSETTO:+0200
TZNAME:EET
DTSTART:20241027T010000
END:STANDARD
BEGIN:DAYLIGHT
TZOFFSETFROM:+0200
TZOFFSETTO:+0300
TZNAME:EEST
DTSTART:20250330T010000
END:DAYLIGHT
BEGIN:STANDARD
TZOFFSETFROM:+0300
TZOFFSETTO:+0200
TZNAME:EET
DTSTART:20251026T010000
END:STANDARD
END:VTIMEZONE
BEGIN:VEVENT
DTSTART;TZID=Europe/Helsinki:20241219T083000
DTEND;TZID=Europe/Helsinki:20241219T090000
DTSTAMP:20260425T043905
CREATED:20241121T144707Z
LAST-MODIFIED:20241217T122506Z
UID:10000027-1734597000-1734598800@privaon.com
SUMMARY:Onnistu tietosuojavastaavana -webinaari
DESCRIPTION:Tervetuloa ”Onnistu tietosuojavastaavana” -webinaariin torstaina 19.12.2024 klo 8:30-9:00! \nTietosuojavastaavan rooli vaatii mm. yhteistyötaitoja\, lainsäädännön seurantaa ja tulkintaa\, ajanhallintaa\, priorisointi- ja organisointitaitoja. Pureudumme webinaarissa tietosuojavastaavan roolin lisäksi seuraaviin kysymyksiin: \n\nMitkä ovat yleisimmät haasteet joita tietosuojavastaavat tehtävässään kohtaavat?\nMiten selvitä näistä haasteista?\nMistä lähteä liikkeelle tietosuojatyössä?\nMiten muistaa tehdä kaikki tarvittavat toimenpiteet?\nMiten tietää\, että ”kaikki tarpeellinen on tehty”?\n\nWebinaarin puhujana on Privaonin tietosuoja-asiantuntija Valtteri Sankari (CIPP/E). \nWebinaari on maksuton\, mutta muistathan rekisteröityä mukaan ennen webinaarin alkua. Webinaarimme ovat olleet suosittuja\, jonka takia joudumme antamaan paikat ensisijaisesti organisaation sähköpostiosoitteella rekisteröityneille.
URL:https://privaon.com/fi/event/onnistu-tietosuojavastaavana-webinaari/
LOCATION:Verkkotapahtuma
ATTACH;FMTTYPE=image/png:https://privaon.com/wp-content/uploads/2024/11/Webinaarit-H224-mainoskuvat-linkedin-1-png.avif
END:VEVENT
END:VCALENDAR