BEGIN:VCALENDAR
VERSION:2.0
PRODID:-//Privaon - ECPv6.15.20//NONSGML v1.0//EN
CALSCALE:GREGORIAN
METHOD:PUBLISH
X-ORIGINAL-URL:https://privaon.com/fi/
X-WR-CALDESC:Tapahtumat Privaon
REFRESH-INTERVAL;VALUE=DURATION:PT1H
X-Robots-Tag:noindex
X-PUBLISHED-TTL:PT1H
BEGIN:VTIMEZONE
TZID:Europe/Helsinki
BEGIN:DAYLIGHT
TZOFFSETFROM:+0200
TZOFFSETTO:+0300
TZNAME:EEST
DTSTART:20230326T010000
END:DAYLIGHT
BEGIN:STANDARD
TZOFFSETFROM:+0300
TZOFFSETTO:+0200
TZNAME:EET
DTSTART:20231029T010000
END:STANDARD
BEGIN:DAYLIGHT
TZOFFSETFROM:+0200
TZOFFSETTO:+0300
TZNAME:EEST
DTSTART:20240331T010000
END:DAYLIGHT
BEGIN:STANDARD
TZOFFSETFROM:+0300
TZOFFSETTO:+0200
TZNAME:EET
DTSTART:20241027T010000
END:STANDARD
BEGIN:DAYLIGHT
TZOFFSETFROM:+0200
TZOFFSETTO:+0300
TZNAME:EEST
DTSTART:20250330T010000
END:DAYLIGHT
BEGIN:STANDARD
TZOFFSETFROM:+0300
TZOFFSETTO:+0200
TZNAME:EET
DTSTART:20251026T010000
END:STANDARD
END:VTIMEZONE
BEGIN:VEVENT
DTSTART;TZID=Europe/Helsinki:20240613T083000
DTEND;TZID=Europe/Helsinki:20240613T090000
DTSTAMP:20260425T133944
CREATED:20240606T111039Z
LAST-MODIFIED:20240606T111039Z
UID:10000006-1718267400-1718269200@privaon.com
SUMMARY:DPO365:n uudet ominaisuudet
DESCRIPTION:Tervetuloa DPO365:n uudet ominaisuudet -webinaariin torstaina 13.6.2024 klo 8:30-9:00. Webinaarissa käydään läpi viime julkaisutiedotteessa esitellyt DPO365:n uudet toiminnallisuudet ja ominaisuudet käytännössä. Lisäksi voit lähettää ilmoittautumisen yhteydessä kysymyksiä DPO365:n käyttöön liittyen. \nTapahtuman asiantuntijana ja uusien toiminnallisuuksien esittelijänä toimii Customer Success Manager Kai Linnervuo. \nDPO365:n uudet ominaisuudet -webinaariin ovat tervetulleita kaikki DPO365:n käyttäjät. Tapahtuma on maksuton\, mutta ilmoittauduthan mukaan tämän linkin kautta. 
URL:https://privaon.com/fi/event/dpo365n-uudet-ominaisuudet/
LOCATION:Verkkokoulutus
ATTACH;FMTTYPE=image/jpeg:https://privaon.com/wp-content/uploads/2024/06/Tietosuojaa-tapahtumanjarjestajille-webinaari-2-jpg.webp
END:VEVENT
END:VCALENDAR