BEGIN:VCALENDAR
VERSION:2.0
PRODID:-//Privaon - ECPv6.15.20//NONSGML v1.0//EN
CALSCALE:GREGORIAN
METHOD:PUBLISH
X-WR-CALNAME:Privaon
X-ORIGINAL-URL:https://privaon.com
X-WR-CALDESC:Events for Privaon
REFRESH-INTERVAL;VALUE=DURATION:PT1H
X-Robots-Tag:noindex
X-PUBLISHED-TTL:PT1H
BEGIN:VTIMEZONE
TZID:Asia/Bangkok
BEGIN:STANDARD
TZOFFSETFROM:+0700
TZOFFSETTO:+0700
TZNAME:+07
DTSTART:20240101T000000
END:STANDARD
END:VTIMEZONE
BEGIN:VTIMEZONE
TZID:Europe/Helsinki
BEGIN:DAYLIGHT
TZOFFSETFROM:+0200
TZOFFSETTO:+0300
TZNAME:EEST
DTSTART:20240331T010000
END:DAYLIGHT
BEGIN:STANDARD
TZOFFSETFROM:+0300
TZOFFSETTO:+0200
TZNAME:EET
DTSTART:20241027T010000
END:STANDARD
BEGIN:DAYLIGHT
TZOFFSETFROM:+0200
TZOFFSETTO:+0300
TZNAME:EEST
DTSTART:20250330T010000
END:DAYLIGHT
BEGIN:STANDARD
TZOFFSETFROM:+0300
TZOFFSETTO:+0200
TZNAME:EET
DTSTART:20251026T010000
END:STANDARD
BEGIN:DAYLIGHT
TZOFFSETFROM:+0200
TZOFFSETTO:+0300
TZNAME:EEST
DTSTART:20260329T010000
END:DAYLIGHT
BEGIN:STANDARD
TZOFFSETFROM:+0300
TZOFFSETTO:+0200
TZNAME:EET
DTSTART:20261025T010000
END:STANDARD
END:VTIMEZONE
BEGIN:VEVENT
DTSTART;TZID=Asia/Bangkok:20250806T120000
DTEND;TZID=Asia/Bangkok:20250806T130000
DTSTAMP:20260425T152430
CREATED:20250716T064850Z
LAST-MODIFIED:20250805T153124Z
UID:10000054-1754481600-1754485200@privaon.com
SUMMARY:Navigating Data Protection: The EU General Data Protection Regulation (GDPR) and Thailand
DESCRIPTION:THIS EVENT HAS BEEN POSTPONED – New Date will be released soon.. \nPlease contact info@privaon.com if you are interested in being notified of the new date. \nIn collaboration with the Embassy of Finland\, Privaon hosts and organises: \n“Navigating Data Protection: The EU General Data Protection Regulation (GDPR) and Thailand” \nDate: (tbc) August 2025\nTime: (tbc)\nPlatform: Zoom \n\nProgramme \nOpening Remarks\nHer Excellency Ambassador Kristiina Kuvaja-Xanthopoulos\, Embassy of Finland\, Bangkok\nOpening and reflections on the importance of international cooperation in data protection. \nWelcome Address\nSenior Advisor\, Trade and Economic Affairs\, Kimmo Pekari\nIntroductory remarks to welcome participants and underscore the relevance of international engagement in data protection. \nThai Perspective on the EU GDPR\nAnuwat Ngamprasertkul & Piniti Chomsavas\, IAS Advisory: Attorneys at Law \nPresentation on the local understanding and implementation of EU GDPR principles within Thailand. \nPresentation by Privaon\nRepresentative of Privaon\, Gail Maunula (CIPP/E\, CIPM)\, Senior Data Protection Specialist\nIntroduction to practical solutions that enhance data protection maturity\, achieve EU GDPR compliance and unlock EU market trust for Southeast Asian organisations. \nQ&A Session\nParticipants will have the opportunity to engage with speakers and pose questions. \n\nRegistration \nPlease remember to register from the Zoom link below before the webinar starts!
URL:https://privaon.com/event/navigating-data-protection-the-eu-general-data-protection-regulation-gdpr-and-thailand/
LOCATION:Online
END:VEVENT
BEGIN:VEVENT
DTSTART;TZID=Europe/Helsinki:20250821T083000
DTEND;TZID=Europe/Helsinki:20250821T090000
DTSTAMP:20260425T152430
CREATED:20250630T093423Z
LAST-MODIFIED:20250814T105715Z
UID:10000053-1755765000-1755766800@privaon.com
SUMMARY:Technological Choices and Management Responsibilities in the Age of AI
DESCRIPTION:REGISTER NOW!\n \nWelcome to the webinar “Technological Choices and Management Responsibilities in the Age of AI” (held in Finnish) organised by Privaon\, taking place on August 21\, 2025\, from 6:30 to 7:00 (8:30 to 9:00 AM Finnish time). \nHow can organisations ensure responsible and strategically sound decisions amidst rapidly evolving technology? In this webinar\, we will take a closer look at the following topics: \n\nThe Management’s Role in Technology Decisions – Who in the organisation is truly responsible for technology-related decisions\, and why should this responsibility lie with leadership?\nThe Impact of New Technologies on Organisations – How are AI and other emerging technologies transforming operations\, decision-making\, and responsibilities?\nPractical Actions for Leaders – What concrete steps should every executive take now to ensure their organisation leverages technology in a controlled and responsible way?\nA Marketing Specialist’s Perspective – What role does marketing play in technology-related decisions\, and why is this perspective crucial?\nMarketing’s Influence on Communication and Brand Integrity – How do technology choices affect customer communications\, branding\, and the responsible use of data?\nMarketing as a Bridge Between Tech and Business – What is the role of marketing in connecting technology and business\, especially when customer trust and transparency are at stake?\n\nThe webinar will be presented by Privaon’s AI Governance & Data Protection Specialist\, Ville Koljonen (CIPP/E\, AIGP) and Privaon’s Head of Growth and experienced marketer in companies in different industries\, Anne Laitinen. When registering for the webinar\, you’ll also have the opportunity to submit your thoughts and questions related to technology choices and management responsibility to be addressed during the session. \nWe look forward to your participation! \nPlease remeber to register before the event starts!
URL:https://privaon.com/event/technological-choices-and-management-responsibilities-in-the-age-of-ai/
LOCATION:Online
ATTACH;FMTTYPE=image/png:https://privaon.com/wp-content/uploads/2025/06/AI-Webinar-5.avif
END:VEVENT
END:VCALENDAR