BEGIN:VCALENDAR
VERSION:2.0
PRODID:-//Privaon - ECPv6.15.20//NONSGML v1.0//EN
CALSCALE:GREGORIAN
METHOD:PUBLISH
X-ORIGINAL-URL:https://privaon.com
X-WR-CALDESC:Events for Privaon
REFRESH-INTERVAL;VALUE=DURATION:PT1H
X-Robots-Tag:noindex
X-PUBLISHED-TTL:PT1H
BEGIN:VTIMEZONE
TZID:Europe/Dublin
BEGIN:DAYLIGHT
TZOFFSETFROM:+0000
TZOFFSETTO:+0100
TZNAME:IST
DTSTART:20240331T010000
END:DAYLIGHT
BEGIN:STANDARD
TZOFFSETFROM:+0100
TZOFFSETTO:+0000
TZNAME:GMT
DTSTART:20241027T010000
END:STANDARD
BEGIN:DAYLIGHT
TZOFFSETFROM:+0000
TZOFFSETTO:+0100
TZNAME:IST
DTSTART:20250330T010000
END:DAYLIGHT
BEGIN:STANDARD
TZOFFSETFROM:+0100
TZOFFSETTO:+0000
TZNAME:GMT
DTSTART:20251026T010000
END:STANDARD
BEGIN:DAYLIGHT
TZOFFSETFROM:+0000
TZOFFSETTO:+0100
TZNAME:IST
DTSTART:20260329T010000
END:DAYLIGHT
BEGIN:STANDARD
TZOFFSETFROM:+0100
TZOFFSETTO:+0000
TZNAME:GMT
DTSTART:20261025T010000
END:STANDARD
END:VTIMEZONE
BEGIN:VEVENT
DTSTART;TZID=Europe/Dublin:20250703T083000
DTEND;TZID=Europe/Dublin:20250703T090000
DTSTAMP:20260425T164745
CREATED:20250211T115943Z
LAST-MODIFIED:20250616T103641Z
UID:10000041-1751531400-1751533200@privaon.com
SUMMARY:How to succeed as a DPO?
DESCRIPTION:Register\n			\n				\n				\n				\n				\n				  \nWelcome to the “How to succeed as a DPO?” webinar on Thursday 3 July 2025 from 8:30 to 9:00 UTC +1 (Finnish time 10:30 to 11:00). \nThe role of data protection officer requires e.g.\, cooperation skills\, monitoring and interpretation of legislation\, time management\, prioritization and organization skills. \nIn this webinar\, in addition to the role of the data protection officer\, we discuss the following questions: \n\nThe DPO role and designation in the organisation \nWhy DPO success is important \nThe 3 key elements of DPO success and their outcomes \nInvestigation: The Successful DPO in the Age of AI\n\nThe webinar speaker is Privaon’s Senior Data Protection Specialist Gail Maunula (CIPP/E\, CIPM). \nThe webinar is free\, but please remember to register before the webinar starts.  \nOur webinars have been popular\, which is why we have to give places primarily to those registered with the organization’s email address.  \nWelcome!  \n			\n				Register
URL:https://privaon.com/event/how-to-succeed-as-a-dpo/
LOCATION:Online
ATTACH;FMTTYPE=image/png:https://privaon.com/wp-content/uploads/2025/02/webinaarit-verkkosivut-png.avif
END:VEVENT
END:VCALENDAR