BEGIN:VCALENDAR
VERSION:2.0
PRODID:-//Privaon - ECPv6.15.20//NONSGML v1.0//EN
CALSCALE:GREGORIAN
METHOD:PUBLISH
X-WR-CALNAME:Privaon
X-ORIGINAL-URL:https://privaon.com
X-WR-CALDESC:Events for Privaon
REFRESH-INTERVAL;VALUE=DURATION:PT1H
X-Robots-Tag:noindex
X-PUBLISHED-TTL:PT1H
BEGIN:VTIMEZONE
TZID:Europe/Helsinki
BEGIN:DAYLIGHT
TZOFFSETFROM:+0200
TZOFFSETTO:+0300
TZNAME:EEST
DTSTART:20230326T010000
END:DAYLIGHT
BEGIN:STANDARD
TZOFFSETFROM:+0300
TZOFFSETTO:+0200
TZNAME:EET
DTSTART:20231029T010000
END:STANDARD
BEGIN:DAYLIGHT
TZOFFSETFROM:+0200
TZOFFSETTO:+0300
TZNAME:EEST
DTSTART:20240331T010000
END:DAYLIGHT
BEGIN:STANDARD
TZOFFSETFROM:+0300
TZOFFSETTO:+0200
TZNAME:EET
DTSTART:20241027T010000
END:STANDARD
BEGIN:DAYLIGHT
TZOFFSETFROM:+0200
TZOFFSETTO:+0300
TZNAME:EEST
DTSTART:20250330T010000
END:DAYLIGHT
BEGIN:STANDARD
TZOFFSETFROM:+0300
TZOFFSETTO:+0200
TZNAME:EET
DTSTART:20251026T010000
END:STANDARD
END:VTIMEZONE
BEGIN:VEVENT
DTSTART;TZID=Europe/Helsinki:20241219T083000
DTEND;TZID=Europe/Helsinki:20241219T090000
DTSTAMP:20260422T220309
CREATED:20241121T144707Z
LAST-MODIFIED:20241121T144707Z
UID:10000029-1734597000-1734598800@privaon.com
SUMMARY:Succeed as a Data Protection Officer webinar
DESCRIPTION:Welcome to the “Succeed as a Data Protection Officer” webinar on Thursday 19th of December 2024 at 8:30-9:00! The role of data protection officer requires e.g. cooperation skills\, monitoring and interpretation of legislation\, time management\, prioritization and organization skills. In the webinar\, in addition to the role of the data protection officer\, we discuss the following questions: \n\nWhat are the most common challenges that data protection officers face in their duties?\nHow to overcome these challenges?\nWhere to start in data protection work?\nHow do you remember to take all the necessary steps?\nHow do you know that “everything necessary has been done”?\n\nThe speaker of the webinar is Privaon’s data protection specialist Valtteri Sankari (CIPP/E). The webinar is free\, but please remember to register before the webinar starts. Our webinars have been popular\, which is why we have to give places primarily to those registered with the organization’s email address. This webinar is in Finnish.
URL:https://privaon.com/event/succeed-as-a-data-protection-officer-webinar/
LOCATION:Online
ATTACH;FMTTYPE=image/png:https://privaon.com/wp-content/uploads/2024/11/Webinaarit-H224-mainoskuvat-linkedin-1-png.avif
END:VEVENT
END:VCALENDAR