BEGIN:VCALENDAR
VERSION:2.0
PRODID:-//Privaon - ECPv6.15.20//NONSGML v1.0//EN
CALSCALE:GREGORIAN
METHOD:PUBLISH
X-WR-CALNAME:Privaon
X-ORIGINAL-URL:https://privaon.com
X-WR-CALDESC:Events for Privaon
REFRESH-INTERVAL;VALUE=DURATION:PT1H
X-Robots-Tag:noindex
X-PUBLISHED-TTL:PT1H
BEGIN:VTIMEZONE
TZID:Europe/Helsinki
BEGIN:DAYLIGHT
TZOFFSETFROM:+0200
TZOFFSETTO:+0300
TZNAME:EEST
DTSTART:20240331T010000
END:DAYLIGHT
BEGIN:STANDARD
TZOFFSETFROM:+0300
TZOFFSETTO:+0200
TZNAME:EET
DTSTART:20241027T010000
END:STANDARD
BEGIN:DAYLIGHT
TZOFFSETFROM:+0200
TZOFFSETTO:+0300
TZNAME:EEST
DTSTART:20250330T010000
END:DAYLIGHT
BEGIN:STANDARD
TZOFFSETFROM:+0300
TZOFFSETTO:+0200
TZNAME:EET
DTSTART:20251026T010000
END:STANDARD
BEGIN:DAYLIGHT
TZOFFSETFROM:+0200
TZOFFSETTO:+0300
TZNAME:EEST
DTSTART:20260329T010000
END:DAYLIGHT
BEGIN:STANDARD
TZOFFSETFROM:+0300
TZOFFSETTO:+0200
TZNAME:EET
DTSTART:20261025T010000
END:STANDARD
END:VTIMEZONE
BEGIN:VEVENT
DTSTART;TZID=Europe/Helsinki:20250924T150000
DTEND;TZID=Europe/Helsinki:20250924T161500
DTSTAMP:20260425T152430
CREATED:20250922T113305Z
LAST-MODIFIED:20250922T113305Z
UID:10000063-1758726000-1758730500@privaon.com
SUMMARY:Leveraging the Privacy Office for Trust-Driven AI Innovation
DESCRIPTION:Privaon’s Senior Data Protection Specialist Gail Maunula and Data Protection Specialist Ville Koljonen are hosting an AI-themed session at MyData Conference on Wednesday 24th September. Join the conference and come to meet us. Read more about the topic of the session below. Tickets to the MyData event are sold here. \nIn an era of ubiquitous AI\, the distinction between ‘personalized’ and ‘truly personal’ is paramount. While personalized AI optimizes experiences for corporate gain\, truly personal AI empowers individuals\, prioritizing their privacy and best interests. This is where the Data Protection Officer (DPO) and robust privacy functions become not just compliance necessities\, but strategic differentiators. Attendees will learn how to navigate this critical shift. \nOur approach redefines AI interaction. By embedding DPOs and privacy teams at the core of AI development\, we ensure ‘privacy by design’ isn’t an afterthought\, but the foundation. This means AI systems are built with data minimization\, purpose limitation\, and user control as inherent features. The DPO acts as a guardian\, overseeing ethical AI development\, conducting rigorous risk assessments\, and ensuring compliance with evolving data protection frameworks. This proactive integration elevates privacy from a mere regulatory obligation to a cornerstone for upholding fundamental human rights in the digital age. \nImagine an AI that genuinely understands and serves each individual\, respecting their digital autonomy. This isn’t just about tailoring recommendations; it’s about fostering trust\, building deeper relationships\, and creating an AI experience that truly values the individual. By leveraging the DPO and privacy office\, we can deliver AI that is not only intelligent but also inherently ethical\, secure\, and truly personal. Our session will equip you with actionable strategies to implement this transformative business approach\, driving both innovation and trust. This is the future of responsible AI\, and it’s a future we can build together.
URL:https://privaon.com/event/leveraging-the-privacy-office-for-trust-driven-ai-innovation/
LOCATION:MyData Conference 2025\, Otakaari 24\, Espoo\, Uusimaa\, 02150\, Finland
END:VEVENT
END:VCALENDAR